BEGIN:VCALENDAR
VERSION:2.0
PRODID:-//eggensperger.at - ECPv6.15.11//NONSGML v1.0//EN
CALSCALE:GREGORIAN
METHOD:PUBLISH
X-WR-CALNAME:eggensperger.at
X-ORIGINAL-URL:https://www.eggensperger.at
X-WR-CALDESC:Veranstaltungen für eggensperger.at
REFRESH-INTERVAL;VALUE=DURATION:PT1H
X-Robots-Tag:noindex
X-PUBLISHED-TTL:PT1H
BEGIN:VTIMEZONE
TZID:Europe/Vienna
BEGIN:DAYLIGHT
TZOFFSETFROM:+0100
TZOFFSETTO:+0200
TZNAME:CEST
DTSTART:20230326T010000
END:DAYLIGHT
BEGIN:STANDARD
TZOFFSETFROM:+0200
TZOFFSETTO:+0100
TZNAME:CET
DTSTART:20231029T010000
END:STANDARD
BEGIN:DAYLIGHT
TZOFFSETFROM:+0100
TZOFFSETTO:+0200
TZNAME:CEST
DTSTART:20240331T010000
END:DAYLIGHT
BEGIN:STANDARD
TZOFFSETFROM:+0200
TZOFFSETTO:+0100
TZNAME:CET
DTSTART:20241027T010000
END:STANDARD
BEGIN:DAYLIGHT
TZOFFSETFROM:+0100
TZOFFSETTO:+0200
TZNAME:CEST
DTSTART:20250330T010000
END:DAYLIGHT
BEGIN:STANDARD
TZOFFSETFROM:+0200
TZOFFSETTO:+0100
TZNAME:CET
DTSTART:20251026T010000
END:STANDARD
END:VTIMEZONE
BEGIN:VEVENT
DTSTART;VALUE=DATE:20240105
DTEND;VALUE=DATE:20240108
DTSTAMP:20260423T134015
CREATED:20221124T052951Z
LAST-MODIFIED:20221124T052954Z
UID:14111-1704412800-1704671999@www.eggensperger.at
SUMMARY:Ausbildungstermin Jänner 2024 | LG UDS ABPU
DESCRIPTION:5. Jänner \nKünstlerische Einzelprüfung
URL:https://www.eggensperger.at/event/ausbildungstermin-janner-2024-lg-uds-abpu/
LOCATION:Anton Bruckner Privatuniversität
CATEGORIES:UDS Termine
END:VEVENT
BEGIN:VEVENT
DTSTART;TZID=Europe/Vienna:20240105T150000
DTEND;TZID=Europe/Vienna:20240105T150000
DTSTAMP:20260423T134015
CREATED:20231215T062615Z
LAST-MODIFIED:20231215T062615Z
UID:14376-1704466800-1704466800@www.eggensperger.at
SUMMARY:Urban Dance Styles Showing 2024
DESCRIPTION:Herzliche Einladung zum Urban Dance Styles Showing \nDie Anton Bruckner Privatuniversität präsentiert stolz das Showing der Studierenden des 2. Jahres des Lehrgangs für Urban Dance Styles. Wir laden Sie ein\, Teil dieser künstlerischen Präsentation zu sein\, das die Einzelprüfungen unserer talentierten Studierenden umfasst. \nDatum und Ort:\n5. Jänner 2024\nDonausaal\, Lentos Kunstmuseum\, Linz Ernst-Koref-Promenade 1\, 4020 Linz \nBeginn:\n15:00 Uhr \nEintritt:\nFrei \nKommen Sie und erleben Sie die Kreativität und Leidenschaft unserer Studierenden\, die ihre Fähigkeiten und ihr Engagement in Urban Dance Styles präsentieren. Dies ist eine einzigartige Gelegenheit\, die Zukunft des Tanzes zu erleben und die Arbeit unserer talentierten Studierenden zu unterstützen. \nUnsere Lehrenden und Studierenden freuen sich auf Ihr Kommen und darauf\, einen unvergesslichen Nachmittag mit Ihnen zu teilen. \nFür weitere Informationen und Anfragen kontaktieren Sie bitte: \nMarkus Eggensperger\nE-Mail: markus@eggensperger.at\nTelefon: 069910196651\nWebseite: www.urbandancestyles.at \nWir freuen uns darauf\, Sie am 5. Jänner zu begrüßen!
URL:https://www.eggensperger.at/event/urban-dance-styles-showing-2024/
LOCATION:Lentos Kunstmuseum\, Linz\, Doktor-Ernst-Koref-Promenade 1\, Linz\, Oberösterreich\, 4020\, Austria
CATEGORIES:Show,Street Dance,Veranstaltung
ATTACH;FMTTYPE=image/jpeg:https://www.eggensperger.at/wp-content/uploads/2023/12/LG_UDS_10.23-116.jpeg
END:VEVENT
END:VCALENDAR