BEGIN:VCALENDAR
VERSION:2.0
PRODID:-//eggensperger.at - ECPv6.15.11//NONSGML v1.0//EN
CALSCALE:GREGORIAN
METHOD:PUBLISH
X-ORIGINAL-URL:https://www.eggensperger.at
X-WR-CALDESC:Veranstaltungen für eggensperger.at
REFRESH-INTERVAL;VALUE=DURATION:PT1H
X-Robots-Tag:noindex
X-PUBLISHED-TTL:PT1H
BEGIN:VTIMEZONE
TZID:Europe/Vienna
BEGIN:DAYLIGHT
TZOFFSETFROM:+0100
TZOFFSETTO:+0200
TZNAME:CEST
DTSTART:20230326T010000
END:DAYLIGHT
BEGIN:STANDARD
TZOFFSETFROM:+0200
TZOFFSETTO:+0100
TZNAME:CET
DTSTART:20231029T010000
END:STANDARD
BEGIN:DAYLIGHT
TZOFFSETFROM:+0100
TZOFFSETTO:+0200
TZNAME:CEST
DTSTART:20240331T010000
END:DAYLIGHT
BEGIN:STANDARD
TZOFFSETFROM:+0200
TZOFFSETTO:+0100
TZNAME:CET
DTSTART:20241027T010000
END:STANDARD
BEGIN:DAYLIGHT
TZOFFSETFROM:+0100
TZOFFSETTO:+0200
TZNAME:CEST
DTSTART:20250330T010000
END:DAYLIGHT
BEGIN:STANDARD
TZOFFSETFROM:+0200
TZOFFSETTO:+0100
TZNAME:CET
DTSTART:20251026T010000
END:STANDARD
BEGIN:DAYLIGHT
TZOFFSETFROM:+0100
TZOFFSETTO:+0200
TZNAME:CEST
DTSTART:20260329T010000
END:DAYLIGHT
BEGIN:STANDARD
TZOFFSETFROM:+0200
TZOFFSETTO:+0100
TZNAME:CET
DTSTART:20261025T010000
END:STANDARD
END:VTIMEZONE
BEGIN:VEVENT
DTSTART;TZID=Europe/Vienna:20241010T193000
DTEND;TZID=Europe/Vienna:20250130T210000
DTSTAMP:20260422T202143
CREATED:20241003T052741Z
LAST-MODIFIED:20241003T053810Z
UID:235888-1728588600-1738270800@www.eggensperger.at
SUMMARY:BREAKING am USI Linz
DESCRIPTION:Breaking\nÜbungsleiter: Markus EggenspergerZeit: Donnerstag\, 19.30 – 21.00 UhrOrt: BORG Honauerstr. \nBreaking (fälschlicher Weise als „Breakdance“ bekannt) ist die ursprünglichste Tanzform der Hip Hop Kultur aus den 70er Jahren der South Bronx / New York. Ob Toprocks\, Downrocks oder Freezes – in diesem Kurs lernst du bei Markus die Basics und Techniken\, die du brauchst. Nach einem intensiven Warm up beschäftigen wir uns mit unterschiedlichen Styles und Moves\, die wir anschließend in ein leicht zu erlernende Routines verpacken. Der Unterricht von Markus zeichnet sich vor allem dadurch aus\, komplex wirkende Bewegungen auf sehr einfache und spielerisch Weise zu vermitteln. \nTERMINE\nDo       10.10.2024     19:30-21:00Do       17.10.2024     19:30-21:00Do       24.11.2024     19:30-21:00Do       07.11.2024     19:30-21:00Do       14.11.2024     19:30-21:00Do       21.11.2024     19:30-21:00Do       28.11.2024     19:30-21:00Do       05.12.2024     19:30-21:00Do       12.12.2024     19:30-21:00Do       19.12.2024     19:30-21:00Do       09.01.2025     19:30-21:00Do       16.01.2025     19:30-21:00Do       23.01.2025     19:30-21:00Do       30.01.2025     19:30-21:00 \n			\n				Anmeldung
URL:https://www.eggensperger.at/event/breaking-am-usi-linz-2/
LOCATION:BORG Linz\, HonauerStraße
CATEGORIES:Aus- und Fortbildungen,Ausbildungsinformation,Ausbildungstermine,Breaking,Veranstaltung,Workshop,Workshops
ATTACH;FMTTYPE=image/jpeg:https://www.eggensperger.at/wp-content/uploads/2024/10/Breaking-USI-2024.jpg
END:VEVENT
BEGIN:VEVENT
DTSTART;VALUE=DATE:20241011
DTEND;VALUE=DATE:20241013
DTSTAMP:20260422T202143
CREATED:20241003T054844Z
LAST-MODIFIED:20241003T054844Z
UID:235911-1728604800-1728777599@www.eggensperger.at
SUMMARY:The Freshest Prince:ess of Austria | Nationale & Internationale Breaking & All Style Battles in Wien (Austria)
DESCRIPTION:Details zur Veranstaltung\n\n\nHerzlich Willkommen zu ‚The Freshest POA – Österreichische Breaking Staatsmeisterschaft‘ am 11. und 12. Oktober 2024 im Hefeboden der Ottakringer Brauerein in Wien (Austria). \n \nKATEGORIEN:\nÖsterreichische Staats- und Jugendmeisterschaften:Offizielle österreichische Staats- und Jugendmeisterschaft vom Urban Dance Verband Österreich (UDVÖ)\, nur für Tänzer:innen mit österreichischer Staatsbürgerschaft und gültiger Startlizenz des UDVÖ. Bei fehlender Lizenz bitte Kontakt über office@urbandanceverband.at aufnehmen. \n• 1vs1 B-Girl Juniors (bis inkl. 15 Jahre)• 1vs1 B-Boy Juniors (bis inkl. 15 Jahre)• 1vs1 B-Girl Youth (16 bis 18 Jahre)• 1vs1 B-Boy Youth (16 bis 18 Jahre)• 1vs1 B-Girl Pro (ab 16 Jahre)*• 1vs1 B-Boy Pro (ab 16 Jahre)* \n*) Die Preselection wird aus Zeit- und Ablaufgründen mit der Preselection für ‚Freshest POA‘ zusammengelegt und gemeinsam durchgeführt. Die bestplatzierten Tänzer:innen mit österreichischer Staatsbürgerschaft und Startlizenz nehmen dann über das Preselection-Ranking gesetzt an den offiziellen Staatsmeisterschaftskategorien teil. \nThe Freshest Prince:ss of Austria (POA):Offene Battles für alle Nationen\, keine Startlizenz erforderlich. Die Gewinner:innen der 1vs1 Battles müssen nach dem Finale im ultimativen Battle gegen die Staatsmeister:innen um den endgültigen Titel kämpfen. \n• 1vs1 B-Girl Pro (ab 15 Jahre)• 1vs1 B-Boy Pro (ab 15 Jahre)• 2vs2 All Style (alle Tanzformen und Styles) \nDEEJAYS:\n• DJ Just a Kid (Germany)• DJ Rey Fresco (Austria) \nJUDGES BREAKING:\n• Fox (Cyprus)• Keyz (France)• Dora (Hungary/Austria)• Danilo (Italy)• tba \nJUDGES ALL STYLE:\n• Lil M.O.D (Austria/Nigeria)• Ska (Austria)• Samurai aka Baby 1k (Germany) \nHOSTS:\n• Godfather | D.Point.C (Switzerland)• Dr. Ill | United Minds (Austria) \nEINTRITT:\nErmäßigt (Vorverkauf auf and8 oder Voranmeldung über Website):Samstag 15€Freitag 10€Kombi Ticket 20€ \nStandardpreis (bei Anmeldung vor Ort):Samstag 20€\,Freitag 15€\,Kombi Ticket 25€. \nStartgeld ist in den Tickets inkludiert. \nZuschauer:innen sowie Tänzer:innen haben die Möglichkeit sich auf unserer Website voranzumelden (ermäßigter Preis) oder auch direkt vor Ort (Standard Preis) ein Ticket zu erwerben. Achtung es wird nur Bargeld angenommen! \nANMELDUNG:\nRegistriere Dich direkt über and8.dance! \nGEPLANTER RUNDOWN:\nFreitag\, 11. Oktober 2024• nur Juniors und Youth Kategorien!• Preselection (1 Runde) und Knock-Out Battles (Best of 3) bis inkl. TOP4• Battles um Platz 3 und Final (3 Runden) am SamstagSamstag\, 12. Oktober 2024• Pro Kategorien + Staatsmeisterschaften + 2vs2• Preselection (1 Runde) und Knock-Out Battles (Best of 3)• Final Battles (3 Runden) – Freshest POA \nZusätzlich findet nach den Battles eine Afterparty direkt vor Ort statt. \nAKTUELLER ZEITPLAN:\nFreitag15:45 – Beginn des Check-ins16:30 – Start der Preselections (gestartet wird mit der jüngsten Kategorie; zuerst B-Girls\, danach B-Boys)17:30 – 20:30 – Battles der Top 16 bis einschließlich der Semifinals \nSamstag13:00 – Beginn des Check-ins13:30 – Start der Preselectionsaller Breaking Battles(zuerst B-Girls\, danach B-Boys)15:00 – Top 16 Battles der B-Girls und B-Boys bis zu den Semifinals17:30– Preselection der All-Style18:00 – Battle um Platz 318:30 – Battle um den 1. Platz19:30 – Allstyle Battles Top 822:00 – Afterparty\n			\n				Anmeldung
URL:https://www.eggensperger.at/event/the-freshest-princeess-of-austria-nationale-internationale-breaking-all-style-battles-in-wien-austria/
LOCATION:Ottakringer Brauerei\, Ottakringer Platz 1\, Wien\, 1160\, Österreich
CATEGORIES:Battle
ATTACH;FMTTYPE=image/jpeg:https://www.eggensperger.at/wp-content/uploads/2024/10/The-Freshest-Prince-ess-of-Austria.jpeg
END:VEVENT
END:VCALENDAR