BEGIN:VCALENDAR
VERSION:2.0
PRODID:-//eggensperger.at - ECPv6.15.11//NONSGML v1.0//EN
CALSCALE:GREGORIAN
METHOD:PUBLISH
X-WR-CALNAME:eggensperger.at
X-ORIGINAL-URL:https://www.eggensperger.at
X-WR-CALDESC:Veranstaltungen für eggensperger.at
REFRESH-INTERVAL;VALUE=DURATION:PT1H
X-Robots-Tag:noindex
X-PUBLISHED-TTL:PT1H
BEGIN:VTIMEZONE
TZID:Europe/Vienna
BEGIN:DAYLIGHT
TZOFFSETFROM:+0100
TZOFFSETTO:+0200
TZNAME:CEST
DTSTART:20240331T010000
END:DAYLIGHT
BEGIN:STANDARD
TZOFFSETFROM:+0200
TZOFFSETTO:+0100
TZNAME:CET
DTSTART:20241027T010000
END:STANDARD
BEGIN:DAYLIGHT
TZOFFSETFROM:+0100
TZOFFSETTO:+0200
TZNAME:CEST
DTSTART:20250330T010000
END:DAYLIGHT
BEGIN:STANDARD
TZOFFSETFROM:+0200
TZOFFSETTO:+0100
TZNAME:CET
DTSTART:20251026T010000
END:STANDARD
BEGIN:DAYLIGHT
TZOFFSETFROM:+0100
TZOFFSETTO:+0200
TZNAME:CEST
DTSTART:20260329T010000
END:DAYLIGHT
BEGIN:STANDARD
TZOFFSETFROM:+0200
TZOFFSETTO:+0100
TZNAME:CET
DTSTART:20261025T010000
END:STANDARD
END:VTIMEZONE
BEGIN:VEVENT
DTSTART;VALUE=DATE:20250728
DTEND;VALUE=DATE:20250802
DTSTAMP:20260424T122142
CREATED:20250205T084044Z
LAST-MODIFIED:20250205T084046Z
UID:236016-1753660800-1754092799@www.eggensperger.at
SUMMARY:Workshop Dschungel\, groove2grow (6-10 Jahre) mit Markus Eggensperger\, Im Rahmen des ImPulsTanz Festivals
DESCRIPTION:HipHop und andere urbane Tanzformen bedeuten Spaß und Lebensfreude – einfach eine coole Party! In diesem Workshop tauchen wir in die Welt verschiedener Tanzstile der HipHop-Kultur. Nach Party-Moves wie Fila\, Smurf und Reebok geht´s ab auf den Boden mit einfachen Elementen aus Breaking. Bei leichten akrobatischen Übungen lassen wir die Welt Kopf stehen. Eine Garantie für viel Spaß mit Musik und Tanz!\n  \n28 July–01 August:\n5 classes of 90 min\n 
URL:https://www.eggensperger.at/event/workshop-dschungel-groove2grow-6-10-jahre-mit-markus-eggensperger-im-rahmen-des-impulstanz-festivals/
LOCATION:MuseumsQuartier\, Museumplatz 1\, Wien\, Wien\, 1070\, Austria
CATEGORIES:Workshop,Workshops
ATTACH;FMTTYPE=image/jpeg:https://www.eggensperger.at/wp-content/uploads/2025/02/dschungel2.jpeg
END:VEVENT
BEGIN:VEVENT
DTSTART;TZID=Europe/Vienna:20250801T170000
DTEND;TZID=Europe/Vienna:20250801T181500
DTSTAMP:20260424T122142
CREATED:20250409T082527Z
LAST-MODIFIED:20250409T082529Z
UID:236044-1754067600-1754072100@www.eggensperger.at
SUMMARY:Public Moves 2025 - groove2grow – That's my Party - Wien
DESCRIPTION:Zusammen mit Markus\, der sein Wissen über HipHop bereits seit Jahren an Unis\, in Sportvereinen und bei internationalen Festivals vermittelt\, tauchen wir ein in die Welt verschiedener Tanzstile der HipHop-Kultur. Neben Party-Moves wie Fila\, Smurf und Reebok geht’s ab auf den Boden mit einfachen Elementen aus dem Breaking. Bei leichten akrobatischen Übungen steht die Welt auf dem Kopf! \n			\n				Anmeldung
URL:https://www.eggensperger.at/event/public-moves-2025-groove2grow-thats-my-party-wien/
LOCATION:Wien Richard Wagner Platz\, Wien\, Wien\, Austria
CATEGORIES:Workshop
END:VEVENT
END:VCALENDAR